BEGIN:VCALENDAR
VERSION:2.0
PRODID:-//PeaceRep - ECPv6.15.20//NONSGML v1.0//EN
CALSCALE:GREGORIAN
METHOD:PUBLISH
X-WR-CALNAME:PeaceRep
X-ORIGINAL-URL:https://peacerep.org
X-WR-CALDESC:Events for PeaceRep
REFRESH-INTERVAL;VALUE=DURATION:PT1H
X-Robots-Tag:noindex
X-PUBLISHED-TTL:PT1H
BEGIN:VTIMEZONE
TZID:UTC
BEGIN:STANDARD
TZOFFSETFROM:+0000
TZOFFSETTO:+0000
TZNAME:UTC
DTSTART:20240101T000000
END:STANDARD
END:VTIMEZONE
BEGIN:VEVENT
DTSTART;TZID=UTC:20250224T173000
DTEND;TZID=UTC:20250224T190000
DTSTAMP:20260420T165340
CREATED:20250213T141609Z
LAST-MODIFIED:20250225T141647Z
UID:24942-1740418200-1740423600@peacerep.org
SUMMARY:The Future of Power-Sharing in Iraq: Youth Perspectives
DESCRIPTION:Photo by AHMAD AL-RUBAYE/AFP via Getty Images\nThis event will be a panel discussion exploring the future of power-sharing in Iraq with Iraqi researchers both within Iraq and in the diaspora.\nRegister to attend in person or online\nThis year marks the twentieth anniversary of the adoption of Iraq’s new constitution\, a milestone that coincides with a significant generational shift—nearly 50% of the population has been born since this transformative period. These demographic changes have brought new perspectives\, challenges\, and opportunities to the forefront of political discourse. \nAs part of the PeaceRep Iraq Programme at LSE Middle East Centre\, this event will bring together Iraqi researchers to examine how younger generations perceive the power-sharing system in Iraq. The discussion will address the Iraqi political system’s effectiveness in meeting societal needs and explore the aspirations of a new generation poised to shape Iraq’s political and social future. \nSpeakers: \n\nOula Kadhum – SOAS\nKhogir Mohammed – Middle East Research Institute\nMuhaned Seloom – Doha Institute for Graduate Studies\n\nChair: \n\nKamaran Palani – LSE Middle East Centre\n\n  \nLearn more about the speakers and register to attend: https://www.lse.ac.uk/middle-east-centre/events/2025/future-of-power-sharing-iraq-youth 
URL:https://peacerep.org/event/the-future-of-power-sharing-in-iraq-youth-perspectives/
CATEGORIES:Public Event
ATTACH;FMTTYPE=image/jpeg:https://peacerep.org/wp-content/uploads/2025/02/GettyImages-1180852780.jpg
END:VEVENT
END:VCALENDAR