BEGIN:VCALENDAR
VERSION:2.0
PRODID:-//PeaceRep - ECPv6.15.20//NONSGML v1.0//EN
CALSCALE:GREGORIAN
METHOD:PUBLISH
X-ORIGINAL-URL:https://peacerep.org
X-WR-CALDESC:Events for PeaceRep
REFRESH-INTERVAL;VALUE=DURATION:PT1H
X-Robots-Tag:noindex
X-PUBLISHED-TTL:PT1H
BEGIN:VTIMEZONE
TZID:UTC
BEGIN:STANDARD
TZOFFSETFROM:+0000
TZOFFSETTO:+0000
TZNAME:UTC
DTSTART:20230101T000000
END:STANDARD
END:VTIMEZONE
BEGIN:VEVENT
DTSTART;TZID=UTC:20241210T150000
DTEND;TZID=UTC:20241210T163000
DTSTAMP:20260421T005504
CREATED:20241210T115601Z
LAST-MODIFIED:20241211T094804Z
UID:24560-1733842800-1733848200@peacerep.org
SUMMARY:The end of the Assad regime: what happens now?
DESCRIPTION:Location:\nZoom \nDate/time:\nTuesday 10 December 2024\n15.00 – 16.30 London / 10.00 – 11.30 New York / 16.00 – 17.30 Paris / 18.00 – 19.30 Damascus \nRegister to attend on Zoom.\nAbout this event: \nBashar al-Assad has been overthrown. The surprise offensive of the rebel groups\, Hay’at Tahrir al-Sham (HTS) and the Syrian National Army (SNA)\, in the end met little resistance\, sparking a broader uprising that brought down the regime. A new chapter in the Syrian crisis has opened with enormous regional and global implications. A regime that committed mass slaughter to cling to power is no more. \nThe LSE Syria team\, based at LSE IDEAS/Conflict and Civicness Research Group\, have been researching the conflict at every stage of its development as part of their work for PeaceRep (the Peace and Conflict Resolution Evidence Platform). Through the Mapping Syria project\, they run local teams of researchers that feed real-time data on conditions on the ground. \nThis rapid response webinar will draw on this experience and local research network to analyse this extraordinary moment of change for Syria and its people. The briefing will address: \n\nWho are the forces/factors behind this offensive?\nHow do they interface with international actors?\nHow will it shape international and regional dynamics?\nWhat are the risks and scenarios going forward?\nWhat are the potential pathways for peace and justice based outcomes?\n\nSpeakers \n\nDr Munzer Alkhalil (LSE)\nMazen Gharibah (LSE)\nZaki Mehchy (LSE)\nDr Rim Turkmani (LSE)\n\nDiscussant\nMary Kaldor (LSE) \nChair\nDr Luke Cooper (LSE) \nFormat\nIn-conversation with audience Q&A \nHow do I participate?\nSign up to the Zoom registration page here:\nhttps://lse.zoom.us/webinar/register/WN_0YiI_d6WRJGuUDPf9FmJpg#/registration \nIs this event private/public?\nThis is a public on the record webinar. Please forward it to colleagues who might be interested. \nThis event is supported by the Peace and Conflict Resolution Evidence Platform (PeaceRep)\, funded by UK International Development from the UK government. However\, the views expressed are those of the participants and do not necessarily reflect the UK government’s official policies.
URL:https://peacerep.org/event/the-end-of-the-assad-regime-what-happens-now/
CATEGORIES:Public Event
ATTACH;FMTTYPE=image/jpeg:https://peacerep.org/wp-content/uploads/2024/12/GettyImages-2188582547.jpg
END:VEVENT
END:VCALENDAR